BEGIN:VCALENDAR
VERSION:2.0
PRODID:-//Jobcenter Stadt Koblenz - ECPv6.15.20//NONSGML v1.0//EN
CALSCALE:GREGORIAN
METHOD:PUBLISH
X-ORIGINAL-URL:https://jobcenter-koblenz.de
X-WR-CALDESC:Veranstaltungen für Jobcenter Stadt Koblenz
REFRESH-INTERVAL;VALUE=DURATION:PT1H
X-Robots-Tag:noindex
X-PUBLISHED-TTL:PT1H
BEGIN:VTIMEZONE
TZID:UTC
BEGIN:STANDARD
TZOFFSETFROM:+0000
TZOFFSETTO:+0000
TZNAME:UTC
DTSTART:20230101T000000
END:STANDARD
END:VTIMEZONE
BEGIN:VEVENT
DTSTART;VALUE=DATE:20240130
DTEND;VALUE=DATE:20240202
DTSTAMP:20260425T170208
CREATED:20240131T091110Z
LAST-MODIFIED:20240131T091845Z
UID:5926-1706572800-1706831999@jobcenter-koblenz.de
SUMMARY:Aktionstage Job-Turbo - Get Work in Germany
DESCRIPTION:Sie haben bereits den Integrationskurs abgeschlossen und suchen nun Beschäftigungsmöglichkeiten bei einem Unternehmen? Informieren Sie sich\, wie der Einstieg gelingen kann! \nDie Bundesagentur für Arbeit veranstaltet vom 30.01. bis 01.02.2024 zum ersten Mal die Aktionstage Job-Turbo. Hier haben Sie die Möglichkeit\, verschiedene Unternehmen mit deren Einstiegs-\, Praktikums- und Qualifizierungsmöglichkeiten in einer kompakten Stunde hautnah kennenzulernen. \nSie erhalten Einblicke in: \n\nEinstiegsmöglichkeiten\nUnternehmenskultur\nDo’s und Dont’s der Unternehmen\nErfahrungsberichte von Mitarbeitenden mit Zuwanderungsgeschichte aus dem Unternehmen\nKonkrete Bewerbungsverfahren\n\nKommen Sie mit den Unternehmen ins Gespräch!\nLernen Sie jetzt die vielfältigen Möglichkeiten und Unternehmen kennen. Jeden Tag präsentieren sich verschiedene Unternehmen aus unterschiedlichen Branchen. Auch die Familienkasse und Jobcenter berichten über ihr Leistungsangebot im Rahmen einer Arbeitsaufnahme. Klicken Sie auf das gewünschte Datum\, um zum Einwahllink und weiterführenden Informationen zu gelangen. \nInformationen zu den digitalen Aktionstagen\, zu den beteiligten Unternehmen und zu den Terminen finden Sie hier: https://www.arbeitsagentur.de/k/job-turbo-aktionstage
URL:https://jobcenter-koblenz.de/event/aktionstage-job-turbo-get-work-in-germany/
LOCATION:Digital – Teilnahme über Microsoft Teams
ATTACH;FMTTYPE=image/jpeg:https://jobcenter-koblenz.de/wp-content/uploads/2024/01/Jobturbo.jpg
END:VEVENT
END:VCALENDAR